BEGIN:VCALENDAR
VERSION:2.0
PRODID:-//jEvents 2.0 for Joomla//EN
CALSCALE:GREGORIAN
METHOD:PUBLISH
BEGIN:VEVENT
UID:1d6eab714ddc98b53aaaba74887bfcc6
CATEGORIES:Heimbelegung
CREATED:20240221T161749
SUMMARY:belegt/Heimabend
DESCRIPTION:
DTSTAMP:20260424T152652
DTSTART;TZID=Europe/Berlin:20390105T180000
SEQUENCE:0
TRANSP:OPAQUE
END:VEVENT
END:VCALENDAR